BEGIN:VCALENDAR
VERSION:2.0
PRODID:-//Parroquia Santo Tomás de Villanueva - ECPv6.15.20//NONSGML v1.0//EN
CALSCALE:GREGORIAN
METHOD:PUBLISH
X-WR-CALNAME:Parroquia Santo Tomás de Villanueva
X-ORIGINAL-URL:https://santotomasdevillanueva.com
X-WR-CALDESC:Eventos para Parroquia Santo Tomás de Villanueva
REFRESH-INTERVAL;VALUE=DURATION:PT1H
X-Robots-Tag:noindex
X-PUBLISHED-TTL:PT1H
BEGIN:VTIMEZONE
TZID:UTC
BEGIN:STANDARD
TZOFFSETFROM:+0000
TZOFFSETTO:+0000
TZNAME:UTC
DTSTART:20240101T000000
END:STANDARD
END:VTIMEZONE
BEGIN:VEVENT
DTSTART;TZID=UTC:20250906T100000
DTEND;TZID=UTC:20250906T140000
DTSTAMP:20260425T102114
CREATED:20250824T122613Z
LAST-MODIFIED:20250824T122613Z
UID:4747-1757152800-1757167200@santotomasdevillanueva.com
SUMMARY:Curso formación catequistas de niños
DESCRIPTION:Curso de formación de catequistas de niños de Iniciación Cristiana de la Parroquia (10:00-14:00).
URL:https://santotomasdevillanueva.com/evento/curso-formacion-catequistas-de-ninos/
CATEGORIES:Catequesis y Evangelización
END:VEVENT
BEGIN:VEVENT
DTSTART;TZID=UTC:20250907T000000
DTEND;TZID=UTC:20250907T235900
DTSTAMP:20260425T102114
CREATED:20250824T122613Z
LAST-MODIFIED:20250824T122613Z
UID:4748-1757203200-1757289540@santotomasdevillanueva.com
SUMMARY:Canonización de Carlo Acutis y Pier Giorgio Frassati
DESCRIPTION:Canonización de Carlo Acutis y Pier Giorgio Frassati.
URL:https://santotomasdevillanueva.com/evento/canonizacion-de-carlo-acutis-y-pier-giorgio-frassati/
CATEGORIES:Catequesis y Evangelización
END:VEVENT
BEGIN:VEVENT
DTSTART;TZID=UTC:20250914T000000
DTEND;TZID=UTC:20250914T235900
DTSTAMP:20260425T102114
CREATED:20250824T122616Z
LAST-MODIFIED:20250824T122616Z
UID:4754-1757808000-1757894340@santotomasdevillanueva.com
SUMMARY:Inicio Catequesis de Iniciación Cristiana (2ª y 3ª etapa)
DESCRIPTION:Comienzo de la catequesis de iniciación cristiana (segunda y tercera etapa).
URL:https://santotomasdevillanueva.com/evento/inicio-catequesis-de-iniciacion-cristiana-2a-y-3a-etapa/
CATEGORIES:Catequesis y Evangelización
END:VEVENT
BEGIN:VEVENT
DTSTART;TZID=UTC:20250924T190000
DTEND;TZID=UTC:20250924T200000
DTSTAMP:20260425T102114
CREATED:20250824T122630Z
LAST-MODIFIED:20250824T122630Z
UID:4764-1758740400-1758744000@santotomasdevillanueva.com
SUMMARY:Vísperas catecumenales
DESCRIPTION:Vísperas catecumenales por nuestros catecúmenos y por la evangelización de la parroquia.
URL:https://santotomasdevillanueva.com/evento/visperas-catecumenales/
CATEGORIES:Catequesis y Evangelización
END:VEVENT
END:VCALENDAR