BEGIN:VCALENDAR
VERSION:2.0
PRODID:-//Parroquia Santo Tomás de Villanueva - ECPv6.15.20//NONSGML v1.0//EN
CALSCALE:GREGORIAN
METHOD:PUBLISH
X-WR-CALNAME:Parroquia Santo Tomás de Villanueva
X-ORIGINAL-URL:https://santotomasdevillanueva.com
X-WR-CALDESC:Eventos para Parroquia Santo Tomás de Villanueva
REFRESH-INTERVAL;VALUE=DURATION:PT1H
X-Robots-Tag:noindex
X-PUBLISHED-TTL:PT1H
BEGIN:VTIMEZONE
TZID:UTC
BEGIN:STANDARD
TZOFFSETFROM:+0000
TZOFFSETTO:+0000
TZNAME:UTC
DTSTART:20250101T000000
END:STANDARD
END:VTIMEZONE
BEGIN:VEVENT
DTSTART;TZID=UTC:20260801T090000
DTEND;TZID=UTC:20260801T093000
DTSTAMP:20260424T230700
CREATED:20250824T123951Z
LAST-MODIFIED:20250824T123951Z
UID:4882-1785574800-1785576600@santotomasdevillanueva.com
SUMMARY:Primer sábado del mes - Agosto
DESCRIPTION:Primer sábado de mes dedicado a la Virgen María.
URL:https://santotomasdevillanueva.com/evento/primer-sabado-del-mes-agosto/
CATEGORIES:Liturgia y Oración
END:VEVENT
BEGIN:VEVENT
DTSTART;TZID=UTC:20260828T193000
DTEND;TZID=UTC:20260828T203000
DTSTAMP:20260424T230700
CREATED:20250824T124006Z
LAST-MODIFIED:20250824T124006Z
UID:4886-1787945400-1787949000@santotomasdevillanueva.com
SUMMARY:Misa columbario - Ago
DESCRIPTION:Misa ofrecida por los difuntos del columbario.
URL:https://santotomasdevillanueva.com/evento/misa-columbario-ago/
CATEGORIES:Liturgia y Oración
END:VEVENT
END:VCALENDAR