BEGIN:VCALENDAR
VERSION:2.0
PRODID:-//Parroquia Santo Tomás de Villanueva - ECPv6.15.20//NONSGML v1.0//EN
CALSCALE:GREGORIAN
METHOD:PUBLISH
X-ORIGINAL-URL:https://santotomasdevillanueva.com
X-WR-CALDESC:Eventos para Parroquia Santo Tomás de Villanueva
REFRESH-INTERVAL;VALUE=DURATION:PT1H
X-Robots-Tag:noindex
X-PUBLISHED-TTL:PT1H
BEGIN:VTIMEZONE
TZID:UTC
BEGIN:STANDARD
TZOFFSETFROM:+0000
TZOFFSETTO:+0000
TZNAME:UTC
DTSTART:20250101T000000
END:STANDARD
END:VTIMEZONE
BEGIN:VEVENT
DTSTART;TZID=UTC:20260616T000000
DTEND;TZID=UTC:20260616T235900
DTSTAMP:20260424T235910
CREATED:20250824T123525Z
LAST-MODIFIED:20250824T123525Z
UID:4872-1781568000-1781654340@santotomasdevillanueva.com
SUMMARY:Aniversario Consagración Parroquia
DESCRIPTION:Aniversario de la Consagración de la Parroquia al Sagrado Corazón de Jesús (16/6/2019).
URL:https://santotomasdevillanueva.com/evento/aniversario-consagracion-parroquia/
CATEGORIES:Parroquial
END:VEVENT
END:VCALENDAR