BEGIN:VCALENDAR
VERSION:2.0
PRODID:-//Parroquia Santo Tomás de Villanueva - ECPv6.15.20//NONSGML v1.0//EN
CALSCALE:GREGORIAN
METHOD:PUBLISH
X-ORIGINAL-URL:https://santotomasdevillanueva.com
X-WR-CALDESC:Eventos para Parroquia Santo Tomás de Villanueva
REFRESH-INTERVAL;VALUE=DURATION:PT1H
X-Robots-Tag:noindex
X-PUBLISHED-TTL:PT1H
BEGIN:VTIMEZONE
TZID:UTC
BEGIN:STANDARD
TZOFFSETFROM:+0000
TZOFFSETTO:+0000
TZNAME:UTC
DTSTART:20250101T000000
END:STANDARD
END:VTIMEZONE
BEGIN:VEVENT
DTSTART;TZID=UTC:20260604T173000
DTEND;TZID=UTC:20260604T190000
DTSTAMP:20260425T020611
CREATED:20250824T123509Z
LAST-MODIFIED:20250824T123509Z
UID:4868-1780594200-1780599600@santotomasdevillanueva.com
SUMMARY:Encuentro Servidores Pastoral Social - Jun
DESCRIPTION:Encuentro mensual de Servidores.
URL:https://santotomasdevillanueva.com/evento/encuentro-servidores-pastoral-social-jun/
CATEGORIES:Pastoral Social
END:VEVENT
BEGIN:VEVENT
DTSTART;TZID=UTC:20260617T160000
DTEND;TZID=UTC:20260618T190000
DTSTAMP:20260425T020611
CREATED:20250824T123525Z
LAST-MODIFIED:20250824T123525Z
UID:4874-1781712000-1781809200@santotomasdevillanueva.com
SUMMARY:Reparto Cáritas Jun
DESCRIPTION:Tercer miércoles y jueves de mes: reparto Cáritas.
URL:https://santotomasdevillanueva.com/evento/reparto-caritas-jun/
CATEGORIES:Pastoral Social
END:VEVENT
END:VCALENDAR