BEGIN:VCALENDAR
VERSION:2.0
PRODID:-//Parroquia Santo Tomás de Villanueva - ECPv6.15.20//NONSGML v1.0//EN
CALSCALE:GREGORIAN
METHOD:PUBLISH
X-ORIGINAL-URL:https://santotomasdevillanueva.com
X-WR-CALDESC:Eventos para Parroquia Santo Tomás de Villanueva
REFRESH-INTERVAL;VALUE=DURATION:PT1H
X-Robots-Tag:noindex
X-PUBLISHED-TTL:PT1H
BEGIN:VTIMEZONE
TZID:UTC
BEGIN:STANDARD
TZOFFSETFROM:+0000
TZOFFSETTO:+0000
TZNAME:UTC
DTSTART:20250101T000000
END:STANDARD
END:VTIMEZONE
BEGIN:VEVENT
DTSTART;TZID=UTC:20260327T000000
DTEND;TZID=UTC:20260328T235900
DTSTAMP:20260424T212715
CREATED:20250824T123310Z
LAST-MODIFIED:20250824T123310Z
UID:4851-1774569600-1774742340@santotomasdevillanueva.com
SUMMARY:24HORAS para EL SEÑOR
DESCRIPTION:24 HORAS para EL SEÑOR.
URL:https://santotomasdevillanueva.com/evento/24horas-para-el-senor/
CATEGORIES:Liturgia y Oración
END:VEVENT
END:VCALENDAR