BEGIN:VCALENDAR
VERSION:2.0
PRODID:-//Parroquia Santo Tomás de Villanueva - ECPv6.15.20//NONSGML v1.0//EN
CALSCALE:GREGORIAN
METHOD:PUBLISH
X-ORIGINAL-URL:https://santotomasdevillanueva.com
X-WR-CALDESC:Eventos para Parroquia Santo Tomás de Villanueva
REFRESH-INTERVAL;VALUE=DURATION:PT1H
X-Robots-Tag:noindex
X-PUBLISHED-TTL:PT1H
BEGIN:VTIMEZONE
TZID:UTC
BEGIN:STANDARD
TZOFFSETFROM:+0000
TZOFFSETTO:+0000
TZNAME:UTC
DTSTART:20240101T000000
END:STANDARD
END:VTIMEZONE
BEGIN:VEVENT
DTSTART;TZID=UTC:20251122T193000
DTEND;TZID=UTC:20251122T210000
DTSTAMP:20260425T112232
CREATED:20250824T122814Z
LAST-MODIFIED:20250824T122814Z
UID:4795-1763839800-1763845200@santotomasdevillanueva.com
SUMMARY:Confirmaciones - niños (Cristo Rey)
DESCRIPTION:Confirmaciones de niños de tercera etapa de Iniciación cristiana.
URL:https://santotomasdevillanueva.com/evento/confirmaciones-ninos-cristo-rey/
CATEGORIES:Catequesis
END:VEVENT
BEGIN:VEVENT
DTSTART;TZID=UTC:20251123T110000
DTEND;TZID=UTC:20251123T123000
DTSTAMP:20260425T112232
CREATED:20250824T122829Z
LAST-MODIFIED:20250824T122829Z
UID:4796-1763895600-1763901000@santotomasdevillanueva.com
SUMMARY:Confirmaciones - adultos (Cristo Rey)
DESCRIPTION:Confirmaciones de adultos\, solemnidad de Cristo Rey.
URL:https://santotomasdevillanueva.com/evento/confirmaciones-adultos-cristo-rey/
CATEGORIES:Catequesis
END:VEVENT
END:VCALENDAR