BEGIN:VCALENDAR
VERSION:2.0
PRODID:-//Parroquia Santo Tomás de Villanueva - ECPv6.15.20//NONSGML v1.0//EN
CALSCALE:GREGORIAN
METHOD:PUBLISH
X-WR-CALNAME:Parroquia Santo Tomás de Villanueva
X-ORIGINAL-URL:https://santotomasdevillanueva.com
X-WR-CALDESC:Eventos para Parroquia Santo Tomás de Villanueva
REFRESH-INTERVAL;VALUE=DURATION:PT1H
X-Robots-Tag:noindex
X-PUBLISHED-TTL:PT1H
BEGIN:VTIMEZONE
TZID:UTC
BEGIN:STANDARD
TZOFFSETFROM:+0000
TZOFFSETTO:+0000
TZNAME:UTC
DTSTART:20250101T000000
END:STANDARD
END:VTIMEZONE
BEGIN:VEVENT
DTSTART;TZID=UTC:20260127T000000
DTEND;TZID=UTC:20260127T235900
DTSTAMP:20260425T010855
CREATED:20250824T122952Z
LAST-MODIFIED:20250824T122952Z
UID:4822-1769472000-1769558340@santotomasdevillanueva.com
SUMMARY:San Enrique de Osso - patrono catequistas
DESCRIPTION:San Enrique de Osso\, patrón de los catequistas españoles.
URL:https://santotomasdevillanueva.com/evento/san-enrique-de-osso-patrono-catequistas/
CATEGORIES:Catequesis
END:VEVENT
END:VCALENDAR