BEGIN:VCALENDAR
VERSION:2.0
PRODID:-//Parroquia Santo Tomás de Villanueva - ECPv6.15.20//NONSGML v1.0//EN
CALSCALE:GREGORIAN
METHOD:PUBLISH
X-ORIGINAL-URL:https://santotomasdevillanueva.com
X-WR-CALDESC:Eventos para Parroquia Santo Tomás de Villanueva
REFRESH-INTERVAL;VALUE=DURATION:PT1H
X-Robots-Tag:noindex
X-PUBLISHED-TTL:PT1H
BEGIN:VTIMEZONE
TZID:UTC
BEGIN:STANDARD
TZOFFSETFROM:+0000
TZOFFSETTO:+0000
TZNAME:UTC
DTSTART:20240101T000000
END:STANDARD
END:VTIMEZONE
BEGIN:VEVENT
DTSTART;TZID=UTC:20250920T100000
DTEND;TZID=UTC:20250920T190000
DTSTAMP:20260425T130023
CREATED:20250824T122630Z
LAST-MODIFIED:20250919T174735Z
UID:4761-1758362400-1758394800@santotomasdevillanueva.com
SUMMARY:Jornada de confesiones - Jubileo
DESCRIPTION:Jornada de confesiones: 10:00-19:00 – Jubileo 2025.
URL:https://santotomasdevillanueva.com/evento/jornada-de-confesiones-jubileo/
CATEGORIES:Liturgia y Oración
ATTACH;FMTTYPE=image/jpeg:https://santotomasdevillanueva.com/wp-content/uploads/2025/08/IMG-20250919-WA0013.jpg
END:VEVENT
BEGIN:VEVENT
DTSTART;TZID=UTC:20250927T000000
DTEND;TZID=UTC:20250927T235900
DTSTAMP:20260425T130023
CREATED:20250824T122645Z
LAST-MODIFIED:20250824T122645Z
UID:4766-1758931200-1759017540@santotomasdevillanueva.com
SUMMARY:Jubileo adolescentes y jóvenes (Provincia)
DESCRIPTION:Jubileo de adolescentes y jóvenes de la Provincia Eclesiástica de Madrid.
URL:https://santotomasdevillanueva.com/evento/jubileo-adolescentes-y-jovenes-provincia/
CATEGORIES:Juventud
END:VEVENT
END:VCALENDAR