BEGIN:VCALENDAR
VERSION:2.0
PRODID:-//Parroquia Santo Tomás de Villanueva - ECPv6.15.20//NONSGML v1.0//EN
CALSCALE:GREGORIAN
METHOD:PUBLISH
X-WR-CALNAME:Parroquia Santo Tomás de Villanueva
X-ORIGINAL-URL:https://santotomasdevillanueva.com
X-WR-CALDESC:Eventos para Parroquia Santo Tomás de Villanueva
REFRESH-INTERVAL;VALUE=DURATION:PT1H
X-Robots-Tag:noindex
X-PUBLISHED-TTL:PT1H
BEGIN:VTIMEZONE
TZID:UTC
BEGIN:STANDARD
TZOFFSETFROM:+0000
TZOFFSETTO:+0000
TZNAME:UTC
DTSTART:20250101T000000
END:STANDARD
END:VTIMEZONE
BEGIN:VEVENT
DTSTART;TZID=UTC:20260201T000000
DTEND;TZID=UTC:20260201T235900
DTSTAMP:20260424T194214
CREATED:20250824T123015Z
LAST-MODIFIED:20250824T123015Z
UID:4829-1769904000-1769990340@santotomasdevillanueva.com
SUMMARY:Día del catequista
DESCRIPTION:Día del catequista de la Parroquia.
URL:https://santotomasdevillanueva.com/evento/dia-del-catequista/
CATEGORIES:Catequesis
END:VEVENT
BEGIN:VEVENT
DTSTART;TZID=UTC:20260205T173000
DTEND;TZID=UTC:20260205T190000
DTSTAMP:20260424T194214
CREATED:20250824T123015Z
LAST-MODIFIED:20250824T123015Z
UID:4830-1770312600-1770318000@santotomasdevillanueva.com
SUMMARY:Encuentro Servidores Pastoral Social - Feb
DESCRIPTION:Encuentro mensual de Servidores de la Pastoral Social Parroquial.
URL:https://santotomasdevillanueva.com/evento/encuentro-servidores-pastoral-social-feb/
CATEGORIES:Pastoral Social
END:VEVENT
BEGIN:VEVENT
DTSTART;TZID=UTC:20260207T090000
DTEND;TZID=UTC:20260207T093000
DTSTAMP:20260424T194214
CREATED:20250824T123105Z
LAST-MODIFIED:20250824T123105Z
UID:4831-1770454800-1770456600@santotomasdevillanueva.com
SUMMARY:Primer sábado del mes - Febrero
DESCRIPTION:Primer sábado de mes dedicado a la Virgen María.
URL:https://santotomasdevillanueva.com/evento/primer-sabado-del-mes-febrero/
CATEGORIES:Liturgia y Oración
END:VEVENT
BEGIN:VEVENT
DTSTART;TZID=UTC:20260207T100000
DTEND;TZID=UTC:20260207T140000
DTSTAMP:20260424T194214
CREATED:20250824T123105Z
LAST-MODIFIED:20250824T123105Z
UID:4832-1770458400-1770472800@santotomasdevillanueva.com
SUMMARY:Curso prematrimonial (convivencia)
DESCRIPTION:Curso prematrimonial CONVIVENCIA primer anuncio (10:00-14:00).
URL:https://santotomasdevillanueva.com/evento/curso-prematrimonial-convivencia/
CATEGORIES:Pastoral Familiar
END:VEVENT
BEGIN:VEVENT
DTSTART;TZID=UTC:20260211T190000
DTEND;TZID=UTC:20260211T200000
DTSTAMP:20260424T194214
CREATED:20250824T123105Z
LAST-MODIFIED:20250824T123105Z
UID:4833-1770836400-1770840000@santotomasdevillanueva.com
SUMMARY:Rosario y Misa por enfermos - Feb
DESCRIPTION:Rosario y Misa ofrecidos por los enfermos y cuidadores.
URL:https://santotomasdevillanueva.com/evento/rosario-y-misa-por-enfermos-feb/
CATEGORIES:Pastoral de la Salud
END:VEVENT
BEGIN:VEVENT
DTSTART;TZID=UTC:20260214T000000
DTEND;TZID=UTC:20260214T235900
DTSTAMP:20260424T194214
CREATED:20250824T123105Z
LAST-MODIFIED:20250824T123105Z
UID:4834-1771027200-1771113540@santotomasdevillanueva.com
SUMMARY:Vigilia de San Valentín
DESCRIPTION:Vigilia de San Valentín en la Catedral-Magistral.
URL:https://santotomasdevillanueva.com/evento/vigilia-de-san-valentin/
CATEGORIES:Juventud
END:VEVENT
BEGIN:VEVENT
DTSTART;TZID=UTC:20260218T000000
DTEND;TZID=UTC:20260218T235900
DTSTAMP:20260424T194214
CREATED:20250824T123105Z
LAST-MODIFIED:20250824T123105Z
UID:4835-1771372800-1771459140@santotomasdevillanueva.com
SUMMARY:Miércoles de Ceniza
DESCRIPTION:Miércoles de Ceniza.
URL:https://santotomasdevillanueva.com/evento/miercoles-de-ceniza/
CATEGORIES:Liturgia y Oración
END:VEVENT
BEGIN:VEVENT
DTSTART;TZID=UTC:20260221T000000
DTEND;TZID=UTC:20260221T235900
DTSTAMP:20260424T194214
CREATED:20250824T123121Z
LAST-MODIFIED:20250824T123121Z
UID:4837-1771632000-1771718340@santotomasdevillanueva.com
SUMMARY:Retiro de Cuaresma
DESCRIPTION:Retiro de Cuaresma.
URL:https://santotomasdevillanueva.com/evento/retiro-de-cuaresma/
CATEGORIES:Espiritualidad
END:VEVENT
BEGIN:VEVENT
DTSTART;TZID=UTC:20260221T100000
DTEND;TZID=UTC:20260221T140000
DTSTAMP:20260424T194214
CREATED:20250824T123121Z
LAST-MODIFIED:20250824T123121Z
UID:4836-1771668000-1771682400@santotomasdevillanueva.com
SUMMARY:Curso prematrimonial - Feb 21
DESCRIPTION:Curso prematrimonial (10:00-14:00).
URL:https://santotomasdevillanueva.com/evento/curso-prematrimonial-feb-21/
CATEGORIES:Pastoral Familiar
END:VEVENT
BEGIN:VEVENT
DTSTART;TZID=UTC:20260225T190000
DTEND;TZID=UTC:20260225T200000
DTSTAMP:20260424T194214
CREATED:20250824T123121Z
LAST-MODIFIED:20250824T123121Z
UID:4838-1772046000-1772049600@santotomasdevillanueva.com
SUMMARY:Vísperas catecumenales - Feb
DESCRIPTION:Vísperas catecumenales.
URL:https://santotomasdevillanueva.com/evento/visperas-catecumenales-feb/
CATEGORIES:Catequesis
END:VEVENT
BEGIN:VEVENT
DTSTART;TZID=UTC:20260227T193000
DTEND;TZID=UTC:20260227T203000
DTSTAMP:20260424T194214
CREATED:20250824T123121Z
LAST-MODIFIED:20250824T123121Z
UID:4839-1772220600-1772224200@santotomasdevillanueva.com
SUMMARY:Misa columbario - Feb
DESCRIPTION:Misa ofrecida por los difuntos del columbario.
URL:https://santotomasdevillanueva.com/evento/misa-columbario-feb/
CATEGORIES:Liturgia y Oración
END:VEVENT
END:VCALENDAR