BEGIN:VCALENDAR
VERSION:2.0
PRODID:-//Parroquia Santo Tomás de Villanueva - ECPv6.15.20//NONSGML v1.0//EN
CALSCALE:GREGORIAN
METHOD:PUBLISH
X-WR-CALNAME:Parroquia Santo Tomás de Villanueva
X-ORIGINAL-URL:https://santotomasdevillanueva.com
X-WR-CALDESC:Eventos para Parroquia Santo Tomás de Villanueva
REFRESH-INTERVAL;VALUE=DURATION:PT1H
X-Robots-Tag:noindex
X-PUBLISHED-TTL:PT1H
BEGIN:VTIMEZONE
TZID:UTC
BEGIN:STANDARD
TZOFFSETFROM:+0000
TZOFFSETTO:+0000
TZNAME:UTC
DTSTART:20250101T000000
END:STANDARD
END:VTIMEZONE
BEGIN:VEVENT
DTSTART;TZID=UTC:20260301T000000
DTEND;TZID=UTC:20260301T235900
DTSTAMP:20260424T182037
CREATED:20250824T123122Z
LAST-MODIFIED:20250824T123122Z
UID:4840-1772323200-1772409540@santotomasdevillanueva.com
SUMMARY:Entrega del Decálogo
DESCRIPTION:Entrega del Decálogo a los niños de tercera etapa.
URL:https://santotomasdevillanueva.com/evento/entrega-del-decalogo/
CATEGORIES:Catequesis
END:VEVENT
BEGIN:VEVENT
DTSTART;TZID=UTC:20260305T173000
DTEND;TZID=UTC:20260305T190000
DTSTAMP:20260424T182037
CREATED:20250824T123239Z
LAST-MODIFIED:20250824T123239Z
UID:4841-1772731800-1772737200@santotomasdevillanueva.com
SUMMARY:Encuentro Servidores Pastoral Social - Mar
DESCRIPTION:Encuentro mensual de Servidores.
URL:https://santotomasdevillanueva.com/evento/encuentro-servidores-pastoral-social-mar/
CATEGORIES:Pastoral Social
END:VEVENT
BEGIN:VEVENT
DTSTART;TZID=UTC:20260307T000000
DTEND;TZID=UTC:20260307T235900
DTSTAMP:20260424T182037
CREATED:20250824T123239Z
LAST-MODIFIED:20250824T123239Z
UID:4844-1772841600-1772927940@santotomasdevillanueva.com
SUMMARY:Encuentro Diocesano de Niños
DESCRIPTION:Encuentro Diocesano de Niños.
URL:https://santotomasdevillanueva.com/evento/encuentro-diocesano-de-ninos/
CATEGORIES:Diocesana
END:VEVENT
BEGIN:VEVENT
DTSTART;TZID=UTC:20260307T090000
DTEND;TZID=UTC:20260307T093000
DTSTAMP:20260424T182037
CREATED:20250824T123239Z
LAST-MODIFIED:20250824T123239Z
UID:4842-1772874000-1772875800@santotomasdevillanueva.com
SUMMARY:Primer sábado del mes - Marzo
DESCRIPTION:Primer sábado de mes dedicado a la Virgen María.
URL:https://santotomasdevillanueva.com/evento/primer-sabado-del-mes-marzo/
CATEGORIES:Liturgia y Oración
END:VEVENT
BEGIN:VEVENT
DTSTART;TZID=UTC:20260307T100000
DTEND;TZID=UTC:20260307T140000
DTSTAMP:20260424T182037
CREATED:20250824T123239Z
LAST-MODIFIED:20250824T123239Z
UID:4843-1772877600-1772892000@santotomasdevillanueva.com
SUMMARY:Curso prematrimonial - Mar 7
DESCRIPTION:Curso prematrimonial.
URL:https://santotomasdevillanueva.com/evento/curso-prematrimonial-mar-7/
CATEGORIES:Pastoral Familiar
END:VEVENT
BEGIN:VEVENT
DTSTART;TZID=UTC:20260311T190000
DTEND;TZID=UTC:20260311T200000
DTSTAMP:20260424T182037
CREATED:20250824T123239Z
LAST-MODIFIED:20250824T123239Z
UID:4845-1773255600-1773259200@santotomasdevillanueva.com
SUMMARY:Rosario y Misa por enfermos - Mar
DESCRIPTION:Rosario y Misa ofrecidos por los enfermos y cuidadores.
URL:https://santotomasdevillanueva.com/evento/rosario-y-misa-por-enfermos-mar/
CATEGORIES:Pastoral de la Salud
END:VEVENT
BEGIN:VEVENT
DTSTART;TZID=UTC:20260319T000000
DTEND;TZID=UTC:20260319T235900
DTSTAMP:20260424T182037
CREATED:20250824T123255Z
LAST-MODIFIED:20250824T123255Z
UID:4846-1773878400-1773964740@santotomasdevillanueva.com
SUMMARY:Solemnidad de San José
DESCRIPTION:Solemnidad de San José.
URL:https://santotomasdevillanueva.com/evento/solemnidad-de-san-jose/
CATEGORIES:Liturgia y Oración
END:VEVENT
BEGIN:VEVENT
DTSTART;TZID=UTC:20260319T160000
DTEND;TZID=UTC:20260320T190000
DTSTAMP:20260424T182037
CREATED:20250824T123255Z
LAST-MODIFIED:20250824T123255Z
UID:4848-1773936000-1774033200@santotomasdevillanueva.com
SUMMARY:Reparto Cáritas Marzo
DESCRIPTION:Tercer miércoles y jueves de mes\, reparto Cáritas.
URL:https://santotomasdevillanueva.com/evento/reparto-caritas-marzo/
CATEGORIES:Pastoral Social
END:VEVENT
BEGIN:VEVENT
DTSTART;TZID=UTC:20260320T000000
DTEND;TZID=UTC:20260322T235900
DTSTAMP:20260424T182037
CREATED:20250824T123255Z
LAST-MODIFIED:20250824T123255Z
UID:4847-1773964800-1774223940@santotomasdevillanueva.com
SUMMARY:Retiro Emaús Mujeres - Marzo
DESCRIPTION:XII Retiro Emaús Mujeres (20–22/03/26).
URL:https://santotomasdevillanueva.com/evento/retiro-emaus-mujeres-marzo/
CATEGORIES:Catequesis
END:VEVENT
BEGIN:VEVENT
DTSTART;TZID=UTC:20260321T100000
DTEND;TZID=UTC:20260321T140000
DTSTAMP:20260424T182037
CREATED:20250824T123255Z
LAST-MODIFIED:20250824T123255Z
UID:4849-1774087200-1774101600@santotomasdevillanueva.com
SUMMARY:Curso prematrimonial - Mar 21
DESCRIPTION:Curso prematrimonial.
URL:https://santotomasdevillanueva.com/evento/curso-prematrimonial-mar-21/
CATEGORIES:Pastoral Familiar
END:VEVENT
BEGIN:VEVENT
DTSTART;TZID=UTC:20260327T000000
DTEND;TZID=UTC:20260328T235900
DTSTAMP:20260424T182037
CREATED:20250824T123310Z
LAST-MODIFIED:20250824T123310Z
UID:4851-1774569600-1774742340@santotomasdevillanueva.com
SUMMARY:24HORAS para EL SEÑOR
DESCRIPTION:24 HORAS para EL SEÑOR.
URL:https://santotomasdevillanueva.com/evento/24horas-para-el-senor/
CATEGORIES:Liturgia y Oración
END:VEVENT
BEGIN:VEVENT
DTSTART;TZID=UTC:20260329T000000
DTEND;TZID=UTC:20260329T235900
DTSTAMP:20260424T182037
CREATED:20250824T123310Z
LAST-MODIFIED:20250824T123310Z
UID:4852-1774742400-1774828740@santotomasdevillanueva.com
SUMMARY:Domingo de Ramos
DESCRIPTION:Domingo de Ramos.
URL:https://santotomasdevillanueva.com/evento/domingo-de-ramos/
CATEGORIES:Liturgia y Oración
END:VEVENT
END:VCALENDAR