BEGIN:VCALENDAR
VERSION:2.0
PRODID:-//Parroquia Santo Tomás de Villanueva - ECPv6.15.20//NONSGML v1.0//EN
CALSCALE:GREGORIAN
METHOD:PUBLISH
X-WR-CALNAME:Parroquia Santo Tomás de Villanueva
X-ORIGINAL-URL:https://santotomasdevillanueva.com
X-WR-CALDESC:Eventos para Parroquia Santo Tomás de Villanueva
REFRESH-INTERVAL;VALUE=DURATION:PT1H
X-Robots-Tag:noindex
X-PUBLISHED-TTL:PT1H
BEGIN:VTIMEZONE
TZID:UTC
BEGIN:STANDARD
TZOFFSETFROM:+0000
TZOFFSETTO:+0000
TZNAME:UTC
DTSTART:20250101T000000
END:STANDARD
END:VTIMEZONE
BEGIN:VEVENT
DTSTART;TZID=UTC:20260424T000000
DTEND;TZID=UTC:20260426T235900
DTSTAMP:20260424T154715
CREATED:20250824T123326Z
LAST-MODIFIED:20250824T123326Z
UID:4857-1776988800-1777247940@santotomasdevillanueva.com
SUMMARY:Retiro Emaús Hombres - Abril
DESCRIPTION:XI Retiro Emaús Hombres (24–26/04/26).
URL:https://santotomasdevillanueva.com/evento/retiro-emaus-hombres-abril/
CATEGORIES:Catequesis
END:VEVENT
BEGIN:VEVENT
DTSTART;TZID=UTC:20260424T193000
DTEND;TZID=UTC:20260424T203000
DTSTAMP:20260424T154715
CREATED:20250824T123326Z
LAST-MODIFIED:20250824T123326Z
UID:4858-1777059000-1777062600@santotomasdevillanueva.com
SUMMARY:Misa columbario - Abril
DESCRIPTION:Misa ofrecida por el eterno descanso de los difuntos del columbario.
URL:https://santotomasdevillanueva.com/evento/misa-columbario-abril/
CATEGORIES:Liturgia y Oración
END:VEVENT
END:VCALENDAR