BEGIN:VCALENDAR
VERSION:2.0
PRODID:-//Parroquia Santo Tomás de Villanueva - ECPv6.15.20//NONSGML v1.0//EN
CALSCALE:GREGORIAN
METHOD:PUBLISH
X-WR-CALNAME:Parroquia Santo Tomás de Villanueva
X-ORIGINAL-URL:https://santotomasdevillanueva.com
X-WR-CALDESC:Eventos para Parroquia Santo Tomás de Villanueva
REFRESH-INTERVAL;VALUE=DURATION:PT1H
X-Robots-Tag:noindex
X-PUBLISHED-TTL:PT1H
BEGIN:VTIMEZONE
TZID:UTC
BEGIN:STANDARD
TZOFFSETFROM:+0000
TZOFFSETTO:+0000
TZNAME:UTC
DTSTART:20240101T000000
END:STANDARD
END:VTIMEZONE
BEGIN:VEVENT
DTSTART;TZID=UTC:20250913T100000
DTEND;TZID=UTC:20250913T133000
DTSTAMP:20260425T025635
CREATED:20250824T122616Z
LAST-MODIFIED:20250824T122616Z
UID:4753-1757757600-1757770200@santotomasdevillanueva.com
SUMMARY:Curso Coordinadores de grupos parroquiales (sábado)
DESCRIPTION:Curso de formación de Coordinadores de grupos parroquiales (10:00-13:30).
URL:https://santotomasdevillanueva.com/evento/curso-coordinadores-de-grupos-parroquiales-sabado/
CATEGORIES:Formación
END:VEVENT
END:VCALENDAR