BEGIN:VCALENDAR
VERSION:2.0
PRODID:-//Parroquia Santo Tomás de Villanueva - ECPv6.15.20//NONSGML v1.0//EN
CALSCALE:GREGORIAN
METHOD:PUBLISH
X-WR-CALNAME:Parroquia Santo Tomás de Villanueva
X-ORIGINAL-URL:https://santotomasdevillanueva.com
X-WR-CALDESC:Eventos para Parroquia Santo Tomás de Villanueva
REFRESH-INTERVAL;VALUE=DURATION:PT1H
X-Robots-Tag:noindex
X-PUBLISHED-TTL:PT1H
BEGIN:VTIMEZONE
TZID:UTC
BEGIN:STANDARD
TZOFFSETFROM:+0000
TZOFFSETTO:+0000
TZNAME:UTC
DTSTART:20250101T000000
END:STANDARD
END:VTIMEZONE
BEGIN:VEVENT
DTSTART;TZID=UTC:20260104T000000
DTEND;TZID=UTC:20260104T235900
DTSTAMP:20260424T222018
CREATED:20250824T122937Z
LAST-MODIFIED:20250824T122937Z
UID:4816-1767484800-1767571140@santotomasdevillanueva.com
SUMMARY:Llegada de los Reyes Magos
DESCRIPTION:Llegada de los Reyes Magos a la Parroquia.
URL:https://santotomasdevillanueva.com/evento/llegada-de-los-reyes-magos/
CATEGORIES:Parroquial
END:VEVENT
END:VCALENDAR