BEGIN:VCALENDAR
VERSION:2.0
PRODID:-//Parroquia Santo Tomás de Villanueva - ECPv6.15.20//NONSGML v1.0//EN
CALSCALE:GREGORIAN
METHOD:PUBLISH
X-WR-CALNAME:Parroquia Santo Tomás de Villanueva
X-ORIGINAL-URL:https://santotomasdevillanueva.com
X-WR-CALDESC:Eventos para Parroquia Santo Tomás de Villanueva
REFRESH-INTERVAL;VALUE=DURATION:PT1H
X-Robots-Tag:noindex
X-PUBLISHED-TTL:PT1H
BEGIN:VTIMEZONE
TZID:UTC
BEGIN:STANDARD
TZOFFSETFROM:+0000
TZOFFSETTO:+0000
TZNAME:UTC
DTSTART:20240101T000000
END:STANDARD
END:VTIMEZONE
BEGIN:VEVENT
DTSTART;TZID=UTC:20251109T123000
DTEND;TZID=UTC:20251109T130000
DTSTAMP:20260425T012619
CREATED:20250824T122716Z
LAST-MODIFIED:20251006T154348Z
UID:4780-1762691400-1762693200@santotomasdevillanueva.com
SUMMARY:Presentación niños primera etapa
DESCRIPTION:Presentación y bendición de los niños que comienzan la primera etapa de catequesis de iniciación cristiana.
URL:https://santotomasdevillanueva.com/evento/presentacion-ninos-primera-etapa/
CATEGORIES:Catequesis y Evangelización
END:VEVENT
END:VCALENDAR