BEGIN:VCALENDAR
VERSION:2.0
PRODID:-//Parroquia Santo Tomás de Villanueva - ECPv6.15.20//NONSGML v1.0//EN
CALSCALE:GREGORIAN
METHOD:PUBLISH
X-WR-CALNAME:Parroquia Santo Tomás de Villanueva
X-ORIGINAL-URL:https://santotomasdevillanueva.com
X-WR-CALDESC:Eventos para Parroquia Santo Tomás de Villanueva
REFRESH-INTERVAL;VALUE=DURATION:PT1H
X-Robots-Tag:noindex
X-PUBLISHED-TTL:PT1H
BEGIN:VTIMEZONE
TZID:UTC
BEGIN:STANDARD
TZOFFSETFROM:+0000
TZOFFSETTO:+0000
TZNAME:UTC
DTSTART:20240101T000000
END:STANDARD
END:VTIMEZONE
BEGIN:VEVENT
DTSTART;TZID=UTC:20251128T000000
DTEND;TZID=UTC:20251130T235900
DTSTAMP:20260424T233340
CREATED:20250824T122829Z
LAST-MODIFIED:20250824T122829Z
UID:4799-1764288000-1764547140@santotomasdevillanueva.com
SUMMARY:Retiro Emaús Hombres
DESCRIPTION:X Retiro Emaús Hombres (28–30/11/25).
URL:https://santotomasdevillanueva.com/evento/retiro-emaus-hombres/
CATEGORIES:Catequesis y Evangelización
END:VEVENT
END:VCALENDAR