BEGIN:VCALENDAR
VERSION:2.0
PRODID:-//Parroquia Santo Tomás de Villanueva - ECPv6.15.20//NONSGML v1.0//EN
CALSCALE:GREGORIAN
METHOD:PUBLISH
X-WR-CALNAME:Parroquia Santo Tomás de Villanueva
X-ORIGINAL-URL:https://santotomasdevillanueva.com
X-WR-CALDESC:Eventos para Parroquia Santo Tomás de Villanueva
REFRESH-INTERVAL;VALUE=DURATION:PT1H
X-Robots-Tag:noindex
X-PUBLISHED-TTL:PT1H
BEGIN:VTIMEZONE
TZID:UTC
BEGIN:STANDARD
TZOFFSETFROM:+0000
TZOFFSETTO:+0000
TZNAME:UTC
DTSTART:20240101T000000
END:STANDARD
END:VTIMEZONE
BEGIN:VEVENT
DTSTART;TZID=UTC:20251010T000000
DTEND;TZID=UTC:20251010T235900
DTSTAMP:20260424T161708
CREATED:20250824T122700Z
LAST-MODIFIED:20250824T122700Z
UID:4773-1760054400-1760140740@santotomasdevillanueva.com
SUMMARY:Solemnidad Santo Tomás de Villanueva
DESCRIPTION:Solemnidad de Santo Tomás de Villanueva. Apertura de la Puerta de la Esperanza.
URL:https://santotomasdevillanueva.com/evento/solemnidad-santo-tomas-de-villanueva/
CATEGORIES:Parroquial
END:VEVENT
END:VCALENDAR